BEGIN:VCALENDAR
VERSION:2.0
PRODID:-//Waldo County Firefighters Association - ECPv6.6.3//NONSGML v1.0//EN
CALSCALE:GREGORIAN
METHOD:PUBLISH
X-WR-CALNAME:Waldo County Firefighters Association
X-ORIGINAL-URL:https://www.waldocountyfirefightersassociation.com
X-WR-CALDESC:Events for Waldo County Firefighters Association
REFRESH-INTERVAL;VALUE=DURATION:PT1H
X-Robots-Tag:noindex
X-PUBLISHED-TTL:PT1H
BEGIN:VTIMEZONE
TZID:America/New_York
BEGIN:DAYLIGHT
TZOFFSETFROM:-0500
TZOFFSETTO:-0400
TZNAME:EDT
DTSTART:20170312T070000
END:DAYLIGHT
BEGIN:STANDARD
TZOFFSETFROM:-0400
TZOFFSETTO:-0500
TZNAME:EST
DTSTART:20171105T060000
END:STANDARD
END:VTIMEZONE
BEGIN:VEVENT
DTSTART;TZID=America/New_York:20170502T180000
DTEND;TZID=America/New_York:20170502T220000
DTSTAMP:20260425T203348
CREATED:20161118T165032Z
LAST-MODIFIED:20161118T214432Z
UID:222-1493748000-1493762400@www.waldocountyfirefightersassociation.com
SUMMARY:Basic Fire School
DESCRIPTION:Basic Fire School Dates and Location:     Cost: $250.00 per student \n\n03/07/17 6pm-10pm\n03/21/17 6pm-10pm\n03/28/17 6pm-10pm\n04/01/17 8am-4pm\n04/04/17 6pm-10pm\n04/08/17 8am-4pm\n04/15/17 8am-4pm\n04/18/17 6pm-10pm\n04/22/17 8am-6pm\n04/25/17 8am-4pm\n04/29/17 8am-4pm\n05/02/17 6pm-10pm Burn lecture\n05/06/17 8am to 4pm Car & Propane Fires\n05/13/17 8am-4pm Live Fire Test\n\nLocation will be at the Morrill Fire Station & WCFFA Training Facility \n\n* Lunch will be provided for all Full day training classes 8am to 4pm \n* WCFFA offers full scholarships for Fire training within Waldo County as well as the National Fire Academy. Please submit a request on line. Our web site is www.waldocountyfirefightersassociation.com. \n** Once you register for a class your spot is held. After coming to the first class\, you will receive a bill. If you miss any classes\, you are still liable for the full payment.
URL:https://www.waldocountyfirefightersassociation.com/event/basic-fire-school-12/
LOCATION:Morrill Fire Station
CATEGORIES:Training
END:VEVENT
BEGIN:VEVENT
DTSTART;TZID=America/New_York:20170518T190000
DTEND;TZID=America/New_York:20170518T200000
DTSTAMP:20260425T203348
CREATED:20160901T151600Z
LAST-MODIFIED:20160901T151600Z
UID:145-1495134000-1495137600@www.waldocountyfirefightersassociation.com
SUMMARY:Meeting
DESCRIPTION:Unity Fire Station (topic) = Representative from TBA?
URL:https://www.waldocountyfirefightersassociation.com/event/may-2017-meeting/
LOCATION:Unity Fire Station
CATEGORIES:Meetings
END:VEVENT
BEGIN:VEVENT
DTSTART;TZID=America/New_York:20170525T183000
DTEND;TZID=America/New_York:20170525T203000
DTSTAMP:20260425T203348
CREATED:20161118T205233Z
LAST-MODIFIED:20161118T205233Z
UID:230-1495737000-1495744200@www.waldocountyfirefightersassociation.com
SUMMARY:WCFCA Meeting
DESCRIPTION:Meetings start at 6:30pm at the EMA Office in Belfast \nFor any questions please reach out to Jeff Archer at 322-1251 or Bill Gillespie at 542-3794
URL:https://www.waldocountyfirefightersassociation.com/event/wcfca-meeting-4/
LOCATION:Belfast Fire Station
CATEGORIES:Meetings
END:VEVENT
END:VCALENDAR