BEGIN:VCALENDAR
VERSION:2.0
PRODID:-//Waldo County Firefighters Association - ECPv6.6.3//NONSGML v1.0//EN
CALSCALE:GREGORIAN
METHOD:PUBLISH
X-ORIGINAL-URL:https://www.waldocountyfirefightersassociation.com
X-WR-CALDESC:Events for Waldo County Firefighters Association
REFRESH-INTERVAL;VALUE=DURATION:PT1H
X-Robots-Tag:noindex
X-PUBLISHED-TTL:PT1H
BEGIN:VTIMEZONE
TZID:America/New_York
BEGIN:DAYLIGHT
TZOFFSETFROM:-0500
TZOFFSETTO:-0400
TZNAME:EDT
DTSTART:20170312T070000
END:DAYLIGHT
BEGIN:STANDARD
TZOFFSETFROM:-0400
TZOFFSETTO:-0500
TZNAME:EST
DTSTART:20171105T060000
END:STANDARD
END:VTIMEZONE
BEGIN:VEVENT
DTSTART;TZID=America/New_York:20170615T190000
DTEND;TZID=America/New_York:20170615T200000
DTSTAMP:20260425T190208
CREATED:20160901T151749Z
LAST-MODIFIED:20160901T151749Z
UID:149-1497553200-1497556800@www.waldocountyfirefightersassociation.com
SUMMARY:Meeting (with supper)
DESCRIPTION:Winterport Fire Station Supper @1800hrs followed by the business meeting @ 1900hrs!   (Topic) = Tour of the new Winterport Fire Station!
URL:https://www.waldocountyfirefightersassociation.com/event/june-2017-meeting/
LOCATION:Winterport Fire Station
CATEGORIES:Meetings
END:VEVENT
END:VCALENDAR